BEGIN:VCALENDAR
VERSION:2.0
PRODID:-//pretix//pretix.eu//
BEGIN:VTIMEZONE
TZID:Asia/Qatar
BEGIN:STANDARD
DTSTART:20000101T000000
RRULE:FREQ=YEARLY;BYMONTH=1
TZNAME:+03
TZOFFSETFROM:+0300
TZOFFSETTO:+0300
END:STANDARD
END:VTIMEZONE
BEGIN:VEVENT
UID:pretix-aqc-pbi03-0@events.azureqatar.org
DTSTART;TZID=Asia/Qatar:20250805T183000
DTEND;TZID=Asia/Qatar:20250805T200000
DESCRIPTION:Tickets: https://events.azureqatar.org/pbi03/\nOrganizer: Azure
  Qatar Community
DTSTAMP:20260421T104939Z
LOCATION:Microsoft Doha\, Burj Al Fardan Floor 27\, Lusail
SUMMARY:🚀 Session 3 of 3 – From Zero to Dashboard Hero: Data Storytell
 ing & Visual Design in Power BI
END:VEVENT
END:VCALENDAR
