BEGIN:VCALENDAR
VERSION:2.0
PRODID:-//pretix//pretix.eu//
BEGIN:VTIMEZONE
TZID:Asia/Qatar
BEGIN:STANDARD
DTSTART:20000101T000000
RRULE:FREQ=YEARLY;BYMONTH=1
TZNAME:+03
TZOFFSETFROM:+0300
TZOFFSETTO:+0300
END:STANDARD
END:VTIMEZONE
BEGIN:VEVENT
UID:pretix-aqc-logicapp-0@events.azureqatar.org
DTSTART;TZID=Asia/Qatar:20251028T180000
DTEND;TZID=Asia/Qatar:20251028T200000
DESCRIPTION:Tickets: https://events.azureqatar.org/logicapp/\nOrganizer: Az
 ure Qatar Community
DTSTAMP:20260421T120500Z
LOCATION:Microsoft Doha\, Burj Al Fardan Floor 27\, Lusail
SUMMARY:Build and Automate Workflows in the Cloud with Azure Logic Apps
END:VEVENT
END:VCALENDAR
