BEGIN:VCALENDAR
VERSION:2.0
PRODID:-//pretix//pretix.eu//
BEGIN:VTIMEZONE
TZID:Asia/Qatar
BEGIN:STANDARD
DTSTART:20000101T000000
RRULE:FREQ=YEARLY;BYMONTH=1
TZNAME:+03
TZOFFSETFROM:+0300
TZOFFSETTO:+0300
END:STANDARD
END:VTIMEZONE
BEGIN:VEVENT
UID:pretix-aqc-ks8qm-5-0@events.azureqatar.org
DTSTART;TZID=Asia/Qatar:20241022T180000
DTEND;TZID=Asia/Qatar:20241022T200000
DESCRIPTION:Tickets: https://events.azureqatar.org/ks8qm-5/\nOrganizer: Azu
 re Qatar Community
DTSTAMP:20260421T133500Z
LOCATION:Microsoft Doha\, Burj Al Fardan Floor 27\, Lusail
SUMMARY:Week 5: Deploying AI Services with Infrastructure as Code with Terr
 aform and ARM Templates
END:VEVENT
END:VCALENDAR
