BEGIN:VCALENDAR
VERSION:2.0
PRODID:-//pretix//pretix.eu//
BEGIN:VTIMEZONE
TZID:Asia/Qatar
BEGIN:STANDARD
DTSTART:20000101T000000
RRULE:FREQ=YEARLY;BYMONTH=1
TZNAME:+03
TZOFFSETFROM:+0300
TZOFFSETTO:+0300
END:STANDARD
END:VTIMEZONE
BEGIN:VEVENT
UID:pretix-aqc-ks8qm-4-0@events.azureqatar.org
DTSTART;TZID=Asia/Qatar:20241015T180000
DTEND;TZID=Asia/Qatar:20241015T200000
DESCRIPTION:Tickets: https://events.azureqatar.org/ks8qm-4/\nOrganizer: Azu
 re Qatar Community
DTSTAMP:20260421T133501Z
LOCATION:Microsoft Doha\, Burj Al Fardan Floor 27\, Lusail
SUMMARY:Week 4: Analyzing Interactions and Building End-to-End Architecture
  for Azure OpenAI Solution
END:VEVENT
END:VCALENDAR
