BEGIN:VCALENDAR
VERSION:2.0
PRODID:-//pretix//pretix.eu//
BEGIN:VTIMEZONE
TZID:Asia/Qatar
BEGIN:STANDARD
DTSTART:20000101T000000
RRULE:FREQ=YEARLY;BYMONTH=1
TZNAME:+03
TZOFFSETFROM:+0300
TZOFFSETTO:+0300
END:STANDARD
END:VTIMEZONE
BEGIN:VEVENT
UID:pretix-aqc-esvsc-0@events.azureqatar.org
DTSTART;TZID=Asia/Qatar:20250204T180000
DTEND;TZID=Asia/Qatar:20250204T200000
DESCRIPTION:Tickets: https://events.azureqatar.org/esvsc/\nOrganizer: Azure
  Qatar Community
DTSTAMP:20260421T133421Z
LOCATION:Microsoft Doha\, Burj Al Fardan Floor 27\, Lusail
SUMMARY:Advance RAG Workshop: Building an AI Study Buddy with Adaptive and 
 Visual Retrieval.
END:VEVENT
END:VCALENDAR
