BEGIN:VCALENDAR
VERSION:2.0
PRODID:-//pretix//pretix.eu//
BEGIN:VTIMEZONE
TZID:Asia/Qatar
BEGIN:STANDARD
DTSTART:20000101T000000
RRULE:FREQ=YEARLY;BYMONTH=1
TZNAME:+03
TZOFFSETFROM:+0300
TZOFFSETTO:+0300
END:STANDARD
END:VTIMEZONE
BEGIN:VEVENT
UID:pretix-aqc-dynamicsai-0@events.azureqatar.org
DTSTART;TZID=Asia/Qatar:20260120T180000
DTEND;TZID=Asia/Qatar:20260120T200000
DESCRIPTION:Tickets: https://events.azureqatar.org/dynamicsai/\nOrganizer: 
 Azure Qatar Community
DTSTAMP:20260421T104147Z
LOCATION:Microsoft Doha\, Burj Al Fardan Floor 27\, Lusail
SUMMARY:AI as a Service Teammate:  Transforming Customer Support at Scale
END:VEVENT
END:VCALENDAR
