BEGIN:VCALENDAR
VERSION:2.0
PRODID:-//pretix//pretix.eu//
BEGIN:VTIMEZONE
TZID:Asia/Qatar
BEGIN:STANDARD
DTSTART:20000101T000000
RRULE:FREQ=YEARLY;BYMONTH=1
TZNAME:+03
TZOFFSETFROM:+0300
TZOFFSETTO:+0300
END:STANDARD
END:VTIMEZONE
BEGIN:VEVENT
UID:pretix-aqc-awsev-0@events.azureqatar.org
DTSTART;TZID=Asia/Qatar:20250701T183000
DTEND;TZID=Asia/Qatar:20250701T190000
DESCRIPTION:Tickets: https://events.azureqatar.org/awsev/\nOrganizer: Azure
  Qatar Community
DTSTAMP:20260421T105750Z
LOCATION:Microsoft Doha\, Burj Al Fardan Floor 27\, Lusail
SUMMARY:Mastering Azure API Management (APIM)
END:VEVENT
END:VCALENDAR
