BEGIN:VCALENDAR
VERSION:2.0
PRODID:-//pretix//pretix.eu//
BEGIN:VTIMEZONE
TZID:Asia/Qatar
BEGIN:STANDARD
DTSTART:20000101T000000
RRULE:FREQ=YEARLY;BYMONTH=1
TZNAME:+03
TZOFFSETFROM:+0300
TZOFFSETTO:+0300
END:STANDARD
END:VTIMEZONE
BEGIN:VEVENT
UID:pretix-aqc-arc-0@events.azureqatar.org
DTSTART;TZID=Asia/Qatar:20260127T180000
DTEND;TZID=Asia/Qatar:20260127T200000
DESCRIPTION:Tickets: https://events.azureqatar.org/arc/\nOrganizer: Azure Q
 atar Community
DTSTAMP:20260421T103934Z
LOCATION:Microsoft Doha\, Burj Al Fardan Floor 27\, Lusail
SUMMARY:Hybrid Server Management with Azure Arc & Azure Local
END:VEVENT
END:VCALENDAR
